BEGIN:VCALENDAR
VERSION:2.0
PRODID:-//ZKS Warszawa - ECPv6.15.20//NONSGML v1.0//EN
CALSCALE:GREGORIAN
METHOD:PUBLISH
X-WR-CALNAME:ZKS Warszawa
X-ORIGINAL-URL:https://zks.stronazen.pl
X-WR-CALDESC:Wydarzenia dla ZKS Warszawa
REFRESH-INTERVAL;VALUE=DURATION:PT1H
X-Robots-Tag:noindex
X-PUBLISHED-TTL:PT1H
BEGIN:VTIMEZONE
TZID:Europe/Warsaw
BEGIN:DAYLIGHT
TZOFFSETFROM:+0100
TZOFFSETTO:+0200
TZNAME:CEST
DTSTART:20250330T010000
END:DAYLIGHT
BEGIN:STANDARD
TZOFFSETFROM:+0200
TZOFFSETTO:+0100
TZNAME:CET
DTSTART:20251026T010000
END:STANDARD
BEGIN:DAYLIGHT
TZOFFSETFROM:+0100
TZOFFSETTO:+0200
TZNAME:CEST
DTSTART:20260329T010000
END:DAYLIGHT
BEGIN:STANDARD
TZOFFSETFROM:+0200
TZOFFSETTO:+0100
TZNAME:CET
DTSTART:20261025T010000
END:STANDARD
BEGIN:DAYLIGHT
TZOFFSETFROM:+0100
TZOFFSETTO:+0200
TZNAME:CEST
DTSTART:20270328T010000
END:DAYLIGHT
BEGIN:STANDARD
TZOFFSETFROM:+0200
TZOFFSETTO:+0100
TZNAME:CET
DTSTART:20271031T010000
END:STANDARD
END:VTIMEZONE
BEGIN:VEVENT
DTSTART;TZID=Europe/Warsaw:20260905T100000
DTEND;TZID=Europe/Warsaw:20260905T150000
DTSTAMP:20260423T110436
CREATED:20260106T140658Z
LAST-MODIFIED:20260106T141515Z
UID:10000872-1788602400-1788620400@zks.stronazen.pl
SUMMARY:Zawody Powszechne ZKS
DESCRIPTION:Cykliczne zawody powszechne na ZKS Warszawa. \nKonkurencje rozgrywane: \n\nPsp30\,\nPsp10\,\nPcz10\,\nKbz10Open\,\nPMcz10\,\nPMcz10 Open\,\nPmczhist10\,\nPcz10 Open\,\nKcz5z8\,\nKhist5z8\,\nPhist10z15\,\nKdw10\,\nKdw10p\,\nKsn10\,\nSdyn10\,\nPst15\,\nPsz10\,\nPcp10/Kcp10 (CPLM 2026 – Czarnoprochowa Liga Mazowiecka w sezonie 2026)\n\nSprzedaż metryczek odbywa się poprzez PortalZKS i w dniu zawodów do godziny 14:00. \nUWAGA: ZKS Warszawa zastrzega możliwość zmiany terminów zawodów i zakresu\nkonkurencji.
URL:https://zks.stronazen.pl/kalendarz/zawody-powszechne-zks-2/2026-09-05/
LOCATION:ZKS Warszawa\, Marymoncka 42\, Warszawa\, Poland
END:VEVENT
BEGIN:VEVENT
DTSTART;TZID=Europe/Warsaw:20260907T090000
DTEND;TZID=Europe/Warsaw:20260907T180000
DTSTAMP:20260423T110436
CREATED:20260106T151522Z
LAST-MODIFIED:20260106T151522Z
UID:10000912-1788771600-1788804000@zks.stronazen.pl
SUMMARY:Pistolet IPSC
DESCRIPTION:Zawody Powszechne Dynamiczne w konkurencji Pistolet IPSC na ZKS Warszawa. \nIPSC (International Practical Shooting Confederation) – pistolet – konkurencja strzelectwa dynamicznego\, w której zawodnik używa pistoletu do jak najszybszego rażenia celów na różnych dystansach. \nZakup metryczek wyłącznie poprzez PortalZKS.
URL:https://zks.stronazen.pl/kalendarz/pistolet-ipsc/2026-09-07/
LOCATION:ZKS Warszawa\, Marymoncka 42\, Warszawa\, Poland
END:VEVENT
BEGIN:VEVENT
DTSTART;TZID=Europe/Warsaw:20260912T100000
DTEND;TZID=Europe/Warsaw:20260912T180000
DTSTAMP:20260423T110436
CREATED:20260106T143717Z
LAST-MODIFIED:20260106T143717Z
UID:10000890-1789207200-1789236000@zks.stronazen.pl
SUMMARY:Zawody pneumatyczne
DESCRIPTION:Zawody pneumatyczne na ZKS Warszawa. \nRozgrywane konkurencje: \n\nPpn40\,\nKpn40.\n\nW zawodach pneumatycznych konkurencje Ppn40/Kpn40 jako zawody OPEN rozgrywane są do godz. 18:00.\nSprzedaż metryczek odbywa się poprzez PortalZKS i w dniu zawodów do godziny 17:00.
URL:https://zks.stronazen.pl/kalendarz/zawody-pneumatyczne/2026-09-12/
LOCATION:ZKS Warszawa\, Marymoncka 42\, Warszawa\, Poland
END:VEVENT
BEGIN:VEVENT
DTSTART;TZID=Europe/Warsaw:20260919T080000
DTEND;TZID=Europe/Warsaw:20260919T170000
DTSTAMP:20260423T110436
CREATED:20260106T152320Z
LAST-MODIFIED:20260421T091248Z
UID:10000987-1789804800-1789837200@zks.stronazen.pl
SUMMARY:Puchar Prezesa
DESCRIPTION:Zawody o Puchar Prezesa ZKS Warszawa. \nRozgrywane konkurencje to: \n\nPsp30 cz. sz.\nPcz20\,\nPsp20\,\nKdw40L\,\nPdw40\n\nSprzedaż metryczek odbywa się poprzez PortalZKS i w dniu zawodów do godziny 13:00. \nKonkurencje Pdw40 i Kdw40L zaczynają się od godz. 9:00\, a pozostałe konkurencje standardowo od godz. 10:00. \nLink do Regulaminu zawodów Pucharu Prezesa ZKS Warszawa w roku 2026.
URL:https://zks.stronazen.pl/kalendarz/puchar-prezesa-i/2026-09-19/
LOCATION:ZKS Warszawa\, Marymoncka 42\, Warszawa\, Poland
CATEGORIES:Puchar Prezesa
ATTACH;FMTTYPE=image/jpeg:https://zks.stronazen.pl/wp-content/uploads/2026/01/2026_PP_wydarzenia_wyr.jpg
END:VEVENT
BEGIN:VEVENT
DTSTART;TZID=Europe/Warsaw:20260926T090000
DTEND;TZID=Europe/Warsaw:20260926T180000
DTSTAMP:20260423T110436
CREATED:20260106T145236Z
LAST-MODIFIED:20260106T145236Z
UID:10000898-1790413200-1790445600@zks.stronazen.pl
SUMMARY:Zawody Powszechne Dynamiczne - strzelba i karabin
DESCRIPTION:Zawody Powszechne Dynamiczne na ZKS Warszawa.\nRozgrywane konkurencje to: \n\nStrzelba IPSC\,\nKdyn20.\n\nZakup metryczek wyłącznie poprzez PortalZKS.
URL:https://zks.stronazen.pl/kalendarz/zawody-powszechne-dynamiczne-strzelba-i-karabin/2026-09-26/
LOCATION:ZKS Warszawa\, Marymoncka 42\, Warszawa\, Poland
END:VEVENT
BEGIN:VEVENT
DTSTART;TZID=Europe/Warsaw:20261003T100000
DTEND;TZID=Europe/Warsaw:20261003T150000
DTSTAMP:20260423T110436
CREATED:20260106T140658Z
LAST-MODIFIED:20260106T141515Z
UID:10000873-1791021600-1791039600@zks.stronazen.pl
SUMMARY:Zawody Powszechne ZKS
DESCRIPTION:Cykliczne zawody powszechne na ZKS Warszawa. \nKonkurencje rozgrywane: \n\nPsp30\,\nPsp10\,\nPcz10\,\nKbz10Open\,\nPMcz10\,\nPMcz10 Open\,\nPmczhist10\,\nPcz10 Open\,\nKcz5z8\,\nKhist5z8\,\nPhist10z15\,\nKdw10\,\nKdw10p\,\nKsn10\,\nSdyn10\,\nPst15\,\nPsz10\,\nPcp10/Kcp10 (CPLM 2026 – Czarnoprochowa Liga Mazowiecka w sezonie 2026)\n\nSprzedaż metryczek odbywa się poprzez PortalZKS i w dniu zawodów do godziny 14:00. \nUWAGA: ZKS Warszawa zastrzega możliwość zmiany terminów zawodów i zakresu\nkonkurencji.
URL:https://zks.stronazen.pl/kalendarz/zawody-powszechne-zks-2/2026-10-03/
LOCATION:ZKS Warszawa\, Marymoncka 42\, Warszawa\, Poland
END:VEVENT
BEGIN:VEVENT
DTSTART;TZID=Europe/Warsaw:20261005T090000
DTEND;TZID=Europe/Warsaw:20261005T180000
DTSTAMP:20260423T110436
CREATED:20260106T142310Z
LAST-MODIFIED:20260106T142310Z
UID:10000879-1791190800-1791223200@zks.stronazen.pl
SUMMARY:Pistolet PIRO
DESCRIPTION:Cykliczne zawody dynamiczne pistolet PIRO (Pistolet i Rewolwer Obronny).\nTo konkurencja strzelectwa dynamicznego o charakterze obronnym. \nZakup metryczek wyłącznie poprzez PortalZKS.
URL:https://zks.stronazen.pl/kalendarz/pistolet-piro-2/2026-10-05/
LOCATION:ZKS Warszawa\, Marymoncka 42\, Warszawa\, Poland
END:VEVENT
BEGIN:VEVENT
DTSTART;TZID=Europe/Warsaw:20261024T090000
DTEND;TZID=Europe/Warsaw:20261024T180000
DTSTAMP:20260423T110436
CREATED:20260106T150033Z
LAST-MODIFIED:20260106T150033Z
UID:10000904-1792832400-1792864800@zks.stronazen.pl
SUMMARY:2 GUN LS oraz Kdyn20
DESCRIPTION:Zawody Powszechne Dynamiczne na ZKS Warszawa w konkurencjach 2 GUN LS oraz Karabin dynamiczny 20 strzałów. \n2 GUN Liga Sportera to polska odmiana wieloboju strzeleckiego\, będąca uproszczoną wersją pełnych zawodów 3-GUN (Pistolet + Karabin + Strzelba). Jest ona rozgrywana według polskiego regulaminu Ligi Sportera. \nZakup metryczek wyłącznie poprzez PortalZKS.
URL:https://zks.stronazen.pl/kalendarz/2-gun-ls-oraz-kdyn20/2026-10-24/
LOCATION:ZKS Warszawa\, Marymoncka 42\, Warszawa\, Poland
END:VEVENT
BEGIN:VEVENT
DTSTART;TZID=Europe/Warsaw:20261024T100000
DTEND;TZID=Europe/Warsaw:20261024T180000
DTSTAMP:20260423T110436
CREATED:20260106T143717Z
LAST-MODIFIED:20260106T143717Z
UID:10000891-1792836000-1792864800@zks.stronazen.pl
SUMMARY:Zawody pneumatyczne
DESCRIPTION:Zawody pneumatyczne na ZKS Warszawa. \nRozgrywane konkurencje: \n\nPpn40\,\nKpn40.\n\nW zawodach pneumatycznych konkurencje Ppn40/Kpn40 jako zawody OPEN rozgrywane są do godz. 18:00.\nSprzedaż metryczek odbywa się poprzez PortalZKS i w dniu zawodów do godziny 17:00.
URL:https://zks.stronazen.pl/kalendarz/zawody-pneumatyczne/2026-10-24/
LOCATION:ZKS Warszawa\, Marymoncka 42\, Warszawa\, Poland
END:VEVENT
BEGIN:VEVENT
DTSTART;TZID=Europe/Warsaw:20261107T100000
DTEND;TZID=Europe/Warsaw:20261107T150000
DTSTAMP:20260423T110436
CREATED:20260106T140658Z
LAST-MODIFIED:20260106T141515Z
UID:10000874-1794045600-1794063600@zks.stronazen.pl
SUMMARY:Zawody Powszechne ZKS
DESCRIPTION:Cykliczne zawody powszechne na ZKS Warszawa. \nKonkurencje rozgrywane: \n\nPsp30\,\nPsp10\,\nPcz10\,\nKbz10Open\,\nPMcz10\,\nPMcz10 Open\,\nPmczhist10\,\nPcz10 Open\,\nKcz5z8\,\nKhist5z8\,\nPhist10z15\,\nKdw10\,\nKdw10p\,\nKsn10\,\nSdyn10\,\nPst15\,\nPsz10\,\nPcp10/Kcp10 (CPLM 2026 – Czarnoprochowa Liga Mazowiecka w sezonie 2026)\n\nSprzedaż metryczek odbywa się poprzez PortalZKS i w dniu zawodów do godziny 14:00. \nUWAGA: ZKS Warszawa zastrzega możliwość zmiany terminów zawodów i zakresu\nkonkurencji.
URL:https://zks.stronazen.pl/kalendarz/zawody-powszechne-zks-2/2026-11-07/
LOCATION:ZKS Warszawa\, Marymoncka 42\, Warszawa\, Poland
END:VEVENT
BEGIN:VEVENT
DTSTART;TZID=Europe/Warsaw:20261109T090000
DTEND;TZID=Europe/Warsaw:20261109T180000
DTSTAMP:20260423T110436
CREATED:20260106T142310Z
LAST-MODIFIED:20260106T142310Z
UID:10000880-1794214800-1794247200@zks.stronazen.pl
SUMMARY:Pistolet PIRO
DESCRIPTION:Cykliczne zawody dynamiczne pistolet PIRO (Pistolet i Rewolwer Obronny).\nTo konkurencja strzelectwa dynamicznego o charakterze obronnym. \nZakup metryczek wyłącznie poprzez PortalZKS.
URL:https://zks.stronazen.pl/kalendarz/pistolet-piro-2/2026-11-09/
LOCATION:ZKS Warszawa\, Marymoncka 42\, Warszawa\, Poland
END:VEVENT
BEGIN:VEVENT
DTSTART;TZID=Europe/Warsaw:20261121T090000
DTEND;TZID=Europe/Warsaw:20261121T180000
DTSTAMP:20260423T110436
CREATED:20260106T145236Z
LAST-MODIFIED:20260106T145236Z
UID:10000899-1795251600-1795284000@zks.stronazen.pl
SUMMARY:Zawody Powszechne Dynamiczne - strzelba i karabin
DESCRIPTION:Zawody Powszechne Dynamiczne na ZKS Warszawa.\nRozgrywane konkurencje to: \n\nStrzelba IPSC\,\nKdyn20.\n\nZakup metryczek wyłącznie poprzez PortalZKS.
URL:https://zks.stronazen.pl/kalendarz/zawody-powszechne-dynamiczne-strzelba-i-karabin/2026-11-21/
LOCATION:ZKS Warszawa\, Marymoncka 42\, Warszawa\, Poland
END:VEVENT
BEGIN:VEVENT
DTSTART;TZID=Europe/Warsaw:20261121T100000
DTEND;TZID=Europe/Warsaw:20261121T180000
DTSTAMP:20260423T110436
CREATED:20260106T143717Z
LAST-MODIFIED:20260106T143717Z
UID:10000892-1795255200-1795284000@zks.stronazen.pl
SUMMARY:Zawody pneumatyczne
DESCRIPTION:Zawody pneumatyczne na ZKS Warszawa. \nRozgrywane konkurencje: \n\nPpn40\,\nKpn40.\n\nW zawodach pneumatycznych konkurencje Ppn40/Kpn40 jako zawody OPEN rozgrywane są do godz. 18:00.\nSprzedaż metryczek odbywa się poprzez PortalZKS i w dniu zawodów do godziny 17:00.
URL:https://zks.stronazen.pl/kalendarz/zawody-pneumatyczne/2026-11-21/
LOCATION:ZKS Warszawa\, Marymoncka 42\, Warszawa\, Poland
END:VEVENT
BEGIN:VEVENT
DTSTART;TZID=Europe/Warsaw:20261205T100000
DTEND;TZID=Europe/Warsaw:20261205T150000
DTSTAMP:20260423T110436
CREATED:20260106T140658Z
LAST-MODIFIED:20260106T141515Z
UID:10000875-1796464800-1796482800@zks.stronazen.pl
SUMMARY:Zawody Powszechne ZKS
DESCRIPTION:Cykliczne zawody powszechne na ZKS Warszawa. \nKonkurencje rozgrywane: \n\nPsp30\,\nPsp10\,\nPcz10\,\nKbz10Open\,\nPMcz10\,\nPMcz10 Open\,\nPmczhist10\,\nPcz10 Open\,\nKcz5z8\,\nKhist5z8\,\nPhist10z15\,\nKdw10\,\nKdw10p\,\nKsn10\,\nSdyn10\,\nPst15\,\nPsz10\,\nPcp10/Kcp10 (CPLM 2026 – Czarnoprochowa Liga Mazowiecka w sezonie 2026)\n\nSprzedaż metryczek odbywa się poprzez PortalZKS i w dniu zawodów do godziny 14:00. \nUWAGA: ZKS Warszawa zastrzega możliwość zmiany terminów zawodów i zakresu\nkonkurencji.
URL:https://zks.stronazen.pl/kalendarz/zawody-powszechne-zks-2/2026-12-05/
LOCATION:ZKS Warszawa\, Marymoncka 42\, Warszawa\, Poland
END:VEVENT
BEGIN:VEVENT
DTSTART;TZID=Europe/Warsaw:20261207T090000
DTEND;TZID=Europe/Warsaw:20261207T180000
DTSTAMP:20260423T110436
CREATED:20260106T142310Z
LAST-MODIFIED:20260106T142310Z
UID:10000881-1796634000-1796666400@zks.stronazen.pl
SUMMARY:Pistolet PIRO
DESCRIPTION:Cykliczne zawody dynamiczne pistolet PIRO (Pistolet i Rewolwer Obronny).\nTo konkurencja strzelectwa dynamicznego o charakterze obronnym. \nZakup metryczek wyłącznie poprzez PortalZKS.
URL:https://zks.stronazen.pl/kalendarz/pistolet-piro-2/2026-12-07/
LOCATION:ZKS Warszawa\, Marymoncka 42\, Warszawa\, Poland
END:VEVENT
BEGIN:VEVENT
DTSTART;TZID=Europe/Warsaw:20261212T090000
DTEND;TZID=Europe/Warsaw:20261212T180000
DTSTAMP:20260423T110436
CREATED:20260106T150033Z
LAST-MODIFIED:20260106T150033Z
UID:10000905-1797066000-1797098400@zks.stronazen.pl
SUMMARY:2 GUN LS oraz Kdyn20
DESCRIPTION:Zawody Powszechne Dynamiczne na ZKS Warszawa w konkurencjach 2 GUN LS oraz Karabin dynamiczny 20 strzałów. \n2 GUN Liga Sportera to polska odmiana wieloboju strzeleckiego\, będąca uproszczoną wersją pełnych zawodów 3-GUN (Pistolet + Karabin + Strzelba). Jest ona rozgrywana według polskiego regulaminu Ligi Sportera. \nZakup metryczek wyłącznie poprzez PortalZKS.
URL:https://zks.stronazen.pl/kalendarz/2-gun-ls-oraz-kdyn20/2026-12-12/
LOCATION:ZKS Warszawa\, Marymoncka 42\, Warszawa\, Poland
END:VEVENT
BEGIN:VEVENT
DTSTART;TZID=Europe/Warsaw:20261212T100000
DTEND;TZID=Europe/Warsaw:20261212T180000
DTSTAMP:20260423T110436
CREATED:20260106T143717Z
LAST-MODIFIED:20260106T143717Z
UID:10000893-1797069600-1797098400@zks.stronazen.pl
SUMMARY:Zawody pneumatyczne
DESCRIPTION:Zawody pneumatyczne na ZKS Warszawa. \nRozgrywane konkurencje: \n\nPpn40\,\nKpn40.\n\nW zawodach pneumatycznych konkurencje Ppn40/Kpn40 jako zawody OPEN rozgrywane są do godz. 18:00.\nSprzedaż metryczek odbywa się poprzez PortalZKS i w dniu zawodów do godziny 17:00.
URL:https://zks.stronazen.pl/kalendarz/zawody-pneumatyczne/2026-12-12/
LOCATION:ZKS Warszawa\, Marymoncka 42\, Warszawa\, Poland
END:VEVENT
END:VCALENDAR