BEGIN:VCALENDAR
VERSION:2.0
PRODID:-//ZKS Warszawa - ECPv6.15.20//NONSGML v1.0//EN
CALSCALE:GREGORIAN
METHOD:PUBLISH
X-ORIGINAL-URL:https://zks.stronazen.pl
X-WR-CALDESC:Wydarzenia dla ZKS Warszawa
REFRESH-INTERVAL;VALUE=DURATION:PT1H
X-Robots-Tag:noindex
X-PUBLISHED-TTL:PT1H
BEGIN:VTIMEZONE
TZID:Europe/Warsaw
BEGIN:DAYLIGHT
TZOFFSETFROM:+0100
TZOFFSETTO:+0200
TZNAME:CEST
DTSTART:20250330T010000
END:DAYLIGHT
BEGIN:STANDARD
TZOFFSETFROM:+0200
TZOFFSETTO:+0100
TZNAME:CET
DTSTART:20251026T010000
END:STANDARD
BEGIN:DAYLIGHT
TZOFFSETFROM:+0100
TZOFFSETTO:+0200
TZNAME:CEST
DTSTART:20260329T010000
END:DAYLIGHT
BEGIN:STANDARD
TZOFFSETFROM:+0200
TZOFFSETTO:+0100
TZNAME:CET
DTSTART:20261025T010000
END:STANDARD
BEGIN:DAYLIGHT
TZOFFSETFROM:+0100
TZOFFSETTO:+0200
TZNAME:CEST
DTSTART:20270328T010000
END:DAYLIGHT
BEGIN:STANDARD
TZOFFSETFROM:+0200
TZOFFSETTO:+0100
TZNAME:CET
DTSTART:20271031T010000
END:STANDARD
END:VTIMEZONE
BEGIN:VEVENT
DTSTART;TZID=Europe/Warsaw:20260425T090000
DTEND;TZID=Europe/Warsaw:20260425T150000
DTSTAMP:20260422T174847
CREATED:20260106T152320Z
LAST-MODIFIED:20260421T091248Z
UID:10000988-1777107600-1777129200@zks.stronazen.pl
SUMMARY:Puchar Prezesa
DESCRIPTION:Zawody o Puchar Prezesa ZKS Warszawa. \nRozgrywane konkurencje to: \n\nPsp30 cz. sz.\nPcz20\,\nPsp20\,\nKdw40L\,\nPdw40\n\nSprzedaż metryczek odbywa się poprzez PortalZKS i w dniu zawodów do godziny 13:00. \nKonkurencje Pdw40 i Kdw40L zaczynają się od godz. 9:00\, a pozostałe konkurencje standardowo od godz. 10:00. \nLink do Regulaminu zawodów Pucharu Prezesa ZKS Warszawa w roku 2026.
URL:https://zks.stronazen.pl/kalendarz/puchar-prezesa-i/2026-04-25/
LOCATION:ZKS Warszawa\, Marymoncka 42\, Warszawa\, Poland
CATEGORIES:Puchar Prezesa
ATTACH;FMTTYPE=image/jpeg:https://zks.stronazen.pl/wp-content/uploads/2026/01/2026_PP_wydarzenia_wyr.jpg
END:VEVENT
BEGIN:VEVENT
DTSTART;TZID=Europe/Warsaw:20260425T090000
DTEND;TZID=Europe/Warsaw:20260425T180000
DTSTAMP:20260422T174847
CREATED:20260106T150033Z
LAST-MODIFIED:20260106T150033Z
UID:10000901-1777107600-1777140000@zks.stronazen.pl
SUMMARY:2 GUN LS oraz Kdyn20
DESCRIPTION:Zawody Powszechne Dynamiczne na ZKS Warszawa w konkurencjach 2 GUN LS oraz Karabin dynamiczny 20 strzałów. \n2 GUN Liga Sportera to polska odmiana wieloboju strzeleckiego\, będąca uproszczoną wersją pełnych zawodów 3-GUN (Pistolet + Karabin + Strzelba). Jest ona rozgrywana według polskiego regulaminu Ligi Sportera. \nZakup metryczek wyłącznie poprzez PortalZKS.
URL:https://zks.stronazen.pl/kalendarz/2-gun-ls-oraz-kdyn20/2026-04-25/
LOCATION:ZKS Warszawa\, Marymoncka 42\, Warszawa\, Poland
END:VEVENT
BEGIN:VEVENT
DTSTART;TZID=Europe/Warsaw:20260426T100000
DTEND;TZID=Europe/Warsaw:20260426T170000
DTSTAMP:20260422T174847
CREATED:20260106T154227Z
LAST-MODIFIED:20260223T124420Z
UID:10000926-1777197600-1777222800@zks.stronazen.pl
SUMMARY:Zawody krótkofalowców
DESCRIPTION:Zawody krótkofalowców na ZKS Warszawa. \nRozgrywane konkurencje to: \n\nPsp10z15\,\nPcz10z15.\n\nSprzedaż metryczek odbywa się poprzez PortalZKS.
URL:https://zks.stronazen.pl/kalendarz/zawody-krotkofalarzy/
LOCATION:ZKS Warszawa\, Marymoncka 42\, Warszawa\, Poland
END:VEVENT
BEGIN:VEVENT
DTSTART;TZID=Europe/Warsaw:20260509T100000
DTEND;TZID=Europe/Warsaw:20260509T150000
DTSTAMP:20260422T174847
CREATED:20260106T140658Z
LAST-MODIFIED:20260106T141515Z
UID:10000868-1778320800-1778338800@zks.stronazen.pl
SUMMARY:Zawody Powszechne ZKS
DESCRIPTION:Cykliczne zawody powszechne na ZKS Warszawa. \nKonkurencje rozgrywane: \n\nPsp30\,\nPsp10\,\nPcz10\,\nKbz10Open\,\nPMcz10\,\nPMcz10 Open\,\nPmczhist10\,\nPcz10 Open\,\nKcz5z8\,\nKhist5z8\,\nPhist10z15\,\nKdw10\,\nKdw10p\,\nKsn10\,\nSdyn10\,\nPst15\,\nPsz10\,\nPcp10/Kcp10 (CPLM 2026 – Czarnoprochowa Liga Mazowiecka w sezonie 2026)\n\nSprzedaż metryczek odbywa się poprzez PortalZKS i w dniu zawodów do godziny 14:00. \nUWAGA: ZKS Warszawa zastrzega możliwość zmiany terminów zawodów i zakresu\nkonkurencji.
URL:https://zks.stronazen.pl/kalendarz/zawody-powszechne-zks-2/2026-05-09/
LOCATION:ZKS Warszawa\, Marymoncka 42\, Warszawa\, Poland
END:VEVENT
BEGIN:VEVENT
DTSTART;TZID=Europe/Warsaw:20260511T090000
DTEND;TZID=Europe/Warsaw:20260511T180000
DTSTAMP:20260422T174847
CREATED:20260106T151522Z
LAST-MODIFIED:20260106T151522Z
UID:10000908-1778490000-1778522400@zks.stronazen.pl
SUMMARY:Pistolet IPSC
DESCRIPTION:Zawody Powszechne Dynamiczne w konkurencji Pistolet IPSC na ZKS Warszawa. \nIPSC (International Practical Shooting Confederation) – pistolet – konkurencja strzelectwa dynamicznego\, w której zawodnik używa pistoletu do jak najszybszego rażenia celów na różnych dystansach. \nZakup metryczek wyłącznie poprzez PortalZKS.
URL:https://zks.stronazen.pl/kalendarz/pistolet-ipsc/2026-05-11/
LOCATION:ZKS Warszawa\, Marymoncka 42\, Warszawa\, Poland
END:VEVENT
BEGIN:VEVENT
DTSTART;TZID=Europe/Warsaw:20260513T173000
DTEND;TZID=Europe/Warsaw:20260513T220000
DTSTAMP:20260422T174847
CREATED:20260221T200928Z
LAST-MODIFIED:20260221T200928Z
UID:10000929-1778693400-1778709600@zks.stronazen.pl
SUMMARY:WZC 2026
DESCRIPTION:W tym dniu w godzinach popołudniowych odbędzie Walne Zebranie Członków naszego stowarzyszenia. Podczas tego WZC odbędą się wybory do władz ZKS Warszawa. Program zostanie opublikowany po jego uchwaleniu przez Zarząd stowarzyszenia.
URL:https://zks.stronazen.pl/kalendarz/wzc-2026/
LOCATION:ZKS Warszawa\, Marymoncka 42\, Warszawa\, Poland
CATEGORIES:wzc
END:VEVENT
BEGIN:VEVENT
DTSTART;TZID=Europe/Warsaw:20260516T090000
DTEND;TZID=Europe/Warsaw:20260516T160000
DTSTAMP:20260422T174847
CREATED:20260106T154644Z
LAST-MODIFIED:20260106T154644Z
UID:10000927-1778922000-1778947200@zks.stronazen.pl
SUMMARY:II Runda Pucharu Polski w Strzelectwie CP oraz Memoriał Huberta Sandera
DESCRIPTION:II Runda Pucharu Polski w Strzelectwie Czarnoprochowym oraz Memoriał Huberta Sandera na ZKS Warszawa. \nRozgrywane konkurencje to: \n\nLamarmora (R/O)\,\nMiquelet (O/R)\,\nPennsylvania\,\nSharps 50\,\nVetterli (R/O)\,\nCominazzo\,\nDonald Malson\,\nKuchenreuter\,\nMariette\,\nPułaski.\n\nZakup metryczek wyłącznie poprzez PortalZKS.
URL:https://zks.stronazen.pl/kalendarz/ii-runda-pucharu-polski-w-strzelectwie-cp-oraz-memorial-huberta-sandera/
LOCATION:ZKS Warszawa\, Marymoncka 42\, Warszawa\, Poland
END:VEVENT
BEGIN:VEVENT
DTSTART;TZID=Europe/Warsaw:20260523T090000
DTEND;TZID=Europe/Warsaw:20260523T180000
DTSTAMP:20260422T174847
CREATED:20260106T145236Z
LAST-MODIFIED:20260106T145236Z
UID:10000896-1779526800-1779559200@zks.stronazen.pl
SUMMARY:Zawody Powszechne Dynamiczne - strzelba i karabin
DESCRIPTION:Zawody Powszechne Dynamiczne na ZKS Warszawa.\nRozgrywane konkurencje to: \n\nStrzelba IPSC\,\nKdyn20.\n\nZakup metryczek wyłącznie poprzez PortalZKS.
URL:https://zks.stronazen.pl/kalendarz/zawody-powszechne-dynamiczne-strzelba-i-karabin/2026-05-23/
LOCATION:ZKS Warszawa\, Marymoncka 42\, Warszawa\, Poland
END:VEVENT
BEGIN:VEVENT
DTSTART;TZID=Europe/Warsaw:20260523T100000
DTEND;TZID=Europe/Warsaw:20260523T150000
DTSTAMP:20260422T174847
CREATED:20260106T152320Z
LAST-MODIFIED:20260421T091248Z
UID:10000984-1779530400-1779548400@zks.stronazen.pl
SUMMARY:Puchar Prezesa
DESCRIPTION:Zawody o Puchar Prezesa ZKS Warszawa. \nRozgrywane konkurencje to: \n\nPsp30 cz. sz.\nPcz20\,\nPsp20\,\nKdw40L\,\nPdw40\n\nSprzedaż metryczek odbywa się poprzez PortalZKS i w dniu zawodów do godziny 13:00. \nKonkurencje Pdw40 i Kdw40L zaczynają się od godz. 9:00\, a pozostałe konkurencje standardowo od godz. 10:00. \nLink do Regulaminu zawodów Pucharu Prezesa ZKS Warszawa w roku 2026.
URL:https://zks.stronazen.pl/kalendarz/puchar-prezesa-i/2026-05-23/
LOCATION:ZKS Warszawa\, Marymoncka 42\, Warszawa\, Poland
CATEGORIES:Puchar Prezesa
ATTACH;FMTTYPE=image/jpeg:https://zks.stronazen.pl/wp-content/uploads/2026/01/2026_PP_wydarzenia_wyr.jpg
END:VEVENT
BEGIN:VEVENT
DTSTART;TZID=Europe/Warsaw:20260524T100000
DTEND;TZID=Europe/Warsaw:20260524T180000
DTSTAMP:20260422T174847
CREATED:20260106T143717Z
LAST-MODIFIED:20260106T143717Z
UID:10000886-1779616800-1779645600@zks.stronazen.pl
SUMMARY:Zawody pneumatyczne
DESCRIPTION:Zawody pneumatyczne na ZKS Warszawa. \nRozgrywane konkurencje: \n\nPpn40\,\nKpn40.\n\nW zawodach pneumatycznych konkurencje Ppn40/Kpn40 jako zawody OPEN rozgrywane są do godz. 18:00.\nSprzedaż metryczek odbywa się poprzez PortalZKS i w dniu zawodów do godziny 17:00.
URL:https://zks.stronazen.pl/kalendarz/zawody-pneumatyczne/2026-05-24/
LOCATION:ZKS Warszawa\, Marymoncka 42\, Warszawa\, Poland
END:VEVENT
BEGIN:VEVENT
DTSTART;TZID=Europe/Warsaw:20260606T100000
DTEND;TZID=Europe/Warsaw:20260606T150000
DTSTAMP:20260422T174847
CREATED:20260106T140658Z
LAST-MODIFIED:20260106T141515Z
UID:10000869-1780740000-1780758000@zks.stronazen.pl
SUMMARY:Zawody Powszechne ZKS
DESCRIPTION:Cykliczne zawody powszechne na ZKS Warszawa. \nKonkurencje rozgrywane: \n\nPsp30\,\nPsp10\,\nPcz10\,\nKbz10Open\,\nPMcz10\,\nPMcz10 Open\,\nPmczhist10\,\nPcz10 Open\,\nKcz5z8\,\nKhist5z8\,\nPhist10z15\,\nKdw10\,\nKdw10p\,\nKsn10\,\nSdyn10\,\nPst15\,\nPsz10\,\nPcp10/Kcp10 (CPLM 2026 – Czarnoprochowa Liga Mazowiecka w sezonie 2026)\n\nSprzedaż metryczek odbywa się poprzez PortalZKS i w dniu zawodów do godziny 14:00. \nUWAGA: ZKS Warszawa zastrzega możliwość zmiany terminów zawodów i zakresu\nkonkurencji.
URL:https://zks.stronazen.pl/kalendarz/zawody-powszechne-zks-2/2026-06-06/
LOCATION:ZKS Warszawa\, Marymoncka 42\, Warszawa\, Poland
END:VEVENT
BEGIN:VEVENT
DTSTART;TZID=Europe/Warsaw:20260607T100000
DTEND;TZID=Europe/Warsaw:20260607T180000
DTSTAMP:20260422T174847
CREATED:20260106T143717Z
LAST-MODIFIED:20260106T143717Z
UID:10000887-1780826400-1780855200@zks.stronazen.pl
SUMMARY:Zawody pneumatyczne
DESCRIPTION:Zawody pneumatyczne na ZKS Warszawa. \nRozgrywane konkurencje: \n\nPpn40\,\nKpn40.\n\nW zawodach pneumatycznych konkurencje Ppn40/Kpn40 jako zawody OPEN rozgrywane są do godz. 18:00.\nSprzedaż metryczek odbywa się poprzez PortalZKS i w dniu zawodów do godziny 17:00.
URL:https://zks.stronazen.pl/kalendarz/zawody-pneumatyczne/2026-06-07/
LOCATION:ZKS Warszawa\, Marymoncka 42\, Warszawa\, Poland
END:VEVENT
BEGIN:VEVENT
DTSTART;TZID=Europe/Warsaw:20260608T090000
DTEND;TZID=Europe/Warsaw:20260608T180000
DTSTAMP:20260422T174847
CREATED:20260106T151522Z
LAST-MODIFIED:20260106T151522Z
UID:10000909-1780909200-1780941600@zks.stronazen.pl
SUMMARY:Pistolet IPSC
DESCRIPTION:Zawody Powszechne Dynamiczne w konkurencji Pistolet IPSC na ZKS Warszawa. \nIPSC (International Practical Shooting Confederation) – pistolet – konkurencja strzelectwa dynamicznego\, w której zawodnik używa pistoletu do jak najszybszego rażenia celów na różnych dystansach. \nZakup metryczek wyłącznie poprzez PortalZKS.
URL:https://zks.stronazen.pl/kalendarz/pistolet-ipsc/2026-06-08/
LOCATION:ZKS Warszawa\, Marymoncka 42\, Warszawa\, Poland
END:VEVENT
BEGIN:VEVENT
DTSTART;TZID=Europe/Warsaw:20260613T080000
DTEND;TZID=Europe/Warsaw:20260613T170000
DTSTAMP:20260422T174847
CREATED:20260106T152320Z
LAST-MODIFIED:20260421T091248Z
UID:10000985-1781337600-1781370000@zks.stronazen.pl
SUMMARY:Puchar Prezesa
DESCRIPTION:Zawody o Puchar Prezesa ZKS Warszawa. \nRozgrywane konkurencje to: \n\nPsp30 cz. sz.\nPcz20\,\nPsp20\,\nKdw40L\,\nPdw40\n\nSprzedaż metryczek odbywa się poprzez PortalZKS i w dniu zawodów do godziny 13:00. \nKonkurencje Pdw40 i Kdw40L zaczynają się od godz. 9:00\, a pozostałe konkurencje standardowo od godz. 10:00. \nLink do Regulaminu zawodów Pucharu Prezesa ZKS Warszawa w roku 2026.
URL:https://zks.stronazen.pl/kalendarz/puchar-prezesa-i/2026-06-13/
LOCATION:ZKS Warszawa\, Marymoncka 42\, Warszawa\, Poland
CATEGORIES:Puchar Prezesa
ATTACH;FMTTYPE=image/jpeg:https://zks.stronazen.pl/wp-content/uploads/2026/01/2026_PP_wydarzenia_wyr.jpg
END:VEVENT
BEGIN:VEVENT
DTSTART;TZID=Europe/Warsaw:20260620T090000
DTEND;TZID=Europe/Warsaw:20260620T180000
DTSTAMP:20260422T174847
CREATED:20260106T150033Z
LAST-MODIFIED:20260106T150033Z
UID:10000902-1781946000-1781978400@zks.stronazen.pl
SUMMARY:2 GUN LS oraz Kdyn20
DESCRIPTION:Zawody Powszechne Dynamiczne na ZKS Warszawa w konkurencjach 2 GUN LS oraz Karabin dynamiczny 20 strzałów. \n2 GUN Liga Sportera to polska odmiana wieloboju strzeleckiego\, będąca uproszczoną wersją pełnych zawodów 3-GUN (Pistolet + Karabin + Strzelba). Jest ona rozgrywana według polskiego regulaminu Ligi Sportera. \nZakup metryczek wyłącznie poprzez PortalZKS.
URL:https://zks.stronazen.pl/kalendarz/2-gun-ls-oraz-kdyn20/2026-06-20/
LOCATION:ZKS Warszawa\, Marymoncka 42\, Warszawa\, Poland
END:VEVENT
BEGIN:VEVENT
DTSTART;TZID=Europe/Warsaw:20260704T100000
DTEND;TZID=Europe/Warsaw:20260704T150000
DTSTAMP:20260422T174847
CREATED:20260106T140658Z
LAST-MODIFIED:20260106T141515Z
UID:10000870-1783159200-1783177200@zks.stronazen.pl
SUMMARY:Zawody Powszechne ZKS
DESCRIPTION:Cykliczne zawody powszechne na ZKS Warszawa. \nKonkurencje rozgrywane: \n\nPsp30\,\nPsp10\,\nPcz10\,\nKbz10Open\,\nPMcz10\,\nPMcz10 Open\,\nPmczhist10\,\nPcz10 Open\,\nKcz5z8\,\nKhist5z8\,\nPhist10z15\,\nKdw10\,\nKdw10p\,\nKsn10\,\nSdyn10\,\nPst15\,\nPsz10\,\nPcp10/Kcp10 (CPLM 2026 – Czarnoprochowa Liga Mazowiecka w sezonie 2026)\n\nSprzedaż metryczek odbywa się poprzez PortalZKS i w dniu zawodów do godziny 14:00. \nUWAGA: ZKS Warszawa zastrzega możliwość zmiany terminów zawodów i zakresu\nkonkurencji.
URL:https://zks.stronazen.pl/kalendarz/zawody-powszechne-zks-2/2026-07-04/
LOCATION:ZKS Warszawa\, Marymoncka 42\, Warszawa\, Poland
END:VEVENT
BEGIN:VEVENT
DTSTART;TZID=Europe/Warsaw:20260706T090000
DTEND;TZID=Europe/Warsaw:20260706T180000
DTSTAMP:20260422T174847
CREATED:20260106T151522Z
LAST-MODIFIED:20260106T151522Z
UID:10000910-1783328400-1783360800@zks.stronazen.pl
SUMMARY:Pistolet IPSC
DESCRIPTION:Zawody Powszechne Dynamiczne w konkurencji Pistolet IPSC na ZKS Warszawa. \nIPSC (International Practical Shooting Confederation) – pistolet – konkurencja strzelectwa dynamicznego\, w której zawodnik używa pistoletu do jak najszybszego rażenia celów na różnych dystansach. \nZakup metryczek wyłącznie poprzez PortalZKS.
URL:https://zks.stronazen.pl/kalendarz/pistolet-ipsc/2026-07-06/
LOCATION:ZKS Warszawa\, Marymoncka 42\, Warszawa\, Poland
END:VEVENT
BEGIN:VEVENT
DTSTART;TZID=Europe/Warsaw:20260718T080000
DTEND;TZID=Europe/Warsaw:20260718T170000
DTSTAMP:20260422T174847
CREATED:20260106T152320Z
LAST-MODIFIED:20260421T091248Z
UID:10000986-1784361600-1784394000@zks.stronazen.pl
SUMMARY:Puchar Prezesa
DESCRIPTION:Zawody o Puchar Prezesa ZKS Warszawa. \nRozgrywane konkurencje to: \n\nPsp30 cz. sz.\nPcz20\,\nPsp20\,\nKdw40L\,\nPdw40\n\nSprzedaż metryczek odbywa się poprzez PortalZKS i w dniu zawodów do godziny 13:00. \nKonkurencje Pdw40 i Kdw40L zaczynają się od godz. 9:00\, a pozostałe konkurencje standardowo od godz. 10:00. \nLink do Regulaminu zawodów Pucharu Prezesa ZKS Warszawa w roku 2026.
URL:https://zks.stronazen.pl/kalendarz/puchar-prezesa-i/2026-07-18/
LOCATION:ZKS Warszawa\, Marymoncka 42\, Warszawa\, Poland
CATEGORIES:Puchar Prezesa
ATTACH;FMTTYPE=image/jpeg:https://zks.stronazen.pl/wp-content/uploads/2026/01/2026_PP_wydarzenia_wyr.jpg
END:VEVENT
BEGIN:VEVENT
DTSTART;TZID=Europe/Warsaw:20260718T100000
DTEND;TZID=Europe/Warsaw:20260718T180000
DTSTAMP:20260422T174847
CREATED:20260106T143717Z
LAST-MODIFIED:20260106T143717Z
UID:10000888-1784368800-1784397600@zks.stronazen.pl
SUMMARY:Zawody pneumatyczne
DESCRIPTION:Zawody pneumatyczne na ZKS Warszawa. \nRozgrywane konkurencje: \n\nPpn40\,\nKpn40.\n\nW zawodach pneumatycznych konkurencje Ppn40/Kpn40 jako zawody OPEN rozgrywane są do godz. 18:00.\nSprzedaż metryczek odbywa się poprzez PortalZKS i w dniu zawodów do godziny 17:00.
URL:https://zks.stronazen.pl/kalendarz/zawody-pneumatyczne/2026-07-18/
LOCATION:ZKS Warszawa\, Marymoncka 42\, Warszawa\, Poland
END:VEVENT
BEGIN:VEVENT
DTSTART;TZID=Europe/Warsaw:20260725T090000
DTEND;TZID=Europe/Warsaw:20260725T180000
DTSTAMP:20260422T174847
CREATED:20260106T145236Z
LAST-MODIFIED:20260106T145236Z
UID:10000897-1784970000-1785002400@zks.stronazen.pl
SUMMARY:Zawody Powszechne Dynamiczne - strzelba i karabin
DESCRIPTION:Zawody Powszechne Dynamiczne na ZKS Warszawa.\nRozgrywane konkurencje to: \n\nStrzelba IPSC\,\nKdyn20.\n\nZakup metryczek wyłącznie poprzez PortalZKS.
URL:https://zks.stronazen.pl/kalendarz/zawody-powszechne-dynamiczne-strzelba-i-karabin/2026-07-25/
LOCATION:ZKS Warszawa\, Marymoncka 42\, Warszawa\, Poland
END:VEVENT
BEGIN:VEVENT
DTSTART;TZID=Europe/Warsaw:20260801T100000
DTEND;TZID=Europe/Warsaw:20260801T150000
DTSTAMP:20260422T174847
CREATED:20260106T140658Z
LAST-MODIFIED:20260106T141515Z
UID:10000871-1785578400-1785596400@zks.stronazen.pl
SUMMARY:Zawody Powszechne ZKS
DESCRIPTION:Cykliczne zawody powszechne na ZKS Warszawa. \nKonkurencje rozgrywane: \n\nPsp30\,\nPsp10\,\nPcz10\,\nKbz10Open\,\nPMcz10\,\nPMcz10 Open\,\nPmczhist10\,\nPcz10 Open\,\nKcz5z8\,\nKhist5z8\,\nPhist10z15\,\nKdw10\,\nKdw10p\,\nKsn10\,\nSdyn10\,\nPst15\,\nPsz10\,\nPcp10/Kcp10 (CPLM 2026 – Czarnoprochowa Liga Mazowiecka w sezonie 2026)\n\nSprzedaż metryczek odbywa się poprzez PortalZKS i w dniu zawodów do godziny 14:00. \nUWAGA: ZKS Warszawa zastrzega możliwość zmiany terminów zawodów i zakresu\nkonkurencji.
URL:https://zks.stronazen.pl/kalendarz/zawody-powszechne-zks-2/2026-08-01/
LOCATION:ZKS Warszawa\, Marymoncka 42\, Warszawa\, Poland
END:VEVENT
BEGIN:VEVENT
DTSTART;TZID=Europe/Warsaw:20260803T090000
DTEND;TZID=Europe/Warsaw:20260803T180000
DTSTAMP:20260422T174847
CREATED:20260106T151522Z
LAST-MODIFIED:20260106T151522Z
UID:10000911-1785747600-1785780000@zks.stronazen.pl
SUMMARY:Pistolet IPSC
DESCRIPTION:Zawody Powszechne Dynamiczne w konkurencji Pistolet IPSC na ZKS Warszawa. \nIPSC (International Practical Shooting Confederation) – pistolet – konkurencja strzelectwa dynamicznego\, w której zawodnik używa pistoletu do jak najszybszego rażenia celów na różnych dystansach. \nZakup metryczek wyłącznie poprzez PortalZKS.
URL:https://zks.stronazen.pl/kalendarz/pistolet-ipsc/2026-08-03/
LOCATION:ZKS Warszawa\, Marymoncka 42\, Warszawa\, Poland
END:VEVENT
BEGIN:VEVENT
DTSTART;TZID=Europe/Warsaw:20260822T090000
DTEND;TZID=Europe/Warsaw:20260822T180000
DTSTAMP:20260422T174847
CREATED:20260106T150033Z
LAST-MODIFIED:20260106T150033Z
UID:10000903-1787389200-1787421600@zks.stronazen.pl
SUMMARY:2 GUN LS oraz Kdyn20
DESCRIPTION:Zawody Powszechne Dynamiczne na ZKS Warszawa w konkurencjach 2 GUN LS oraz Karabin dynamiczny 20 strzałów. \n2 GUN Liga Sportera to polska odmiana wieloboju strzeleckiego\, będąca uproszczoną wersją pełnych zawodów 3-GUN (Pistolet + Karabin + Strzelba). Jest ona rozgrywana według polskiego regulaminu Ligi Sportera. \nZakup metryczek wyłącznie poprzez PortalZKS.
URL:https://zks.stronazen.pl/kalendarz/2-gun-ls-oraz-kdyn20/2026-08-22/
LOCATION:ZKS Warszawa\, Marymoncka 42\, Warszawa\, Poland
END:VEVENT
BEGIN:VEVENT
DTSTART;TZID=Europe/Warsaw:20260822T100000
DTEND;TZID=Europe/Warsaw:20260822T180000
DTSTAMP:20260422T174847
CREATED:20260106T143717Z
LAST-MODIFIED:20260106T143717Z
UID:10000889-1787392800-1787421600@zks.stronazen.pl
SUMMARY:Zawody pneumatyczne
DESCRIPTION:Zawody pneumatyczne na ZKS Warszawa. \nRozgrywane konkurencje: \n\nPpn40\,\nKpn40.\n\nW zawodach pneumatycznych konkurencje Ppn40/Kpn40 jako zawody OPEN rozgrywane są do godz. 18:00.\nSprzedaż metryczek odbywa się poprzez PortalZKS i w dniu zawodów do godziny 17:00.
URL:https://zks.stronazen.pl/kalendarz/zawody-pneumatyczne/2026-08-22/
LOCATION:ZKS Warszawa\, Marymoncka 42\, Warszawa\, Poland
END:VEVENT
BEGIN:VEVENT
DTSTART;TZID=Europe/Warsaw:20260905T100000
DTEND;TZID=Europe/Warsaw:20260905T150000
DTSTAMP:20260422T174847
CREATED:20260106T140658Z
LAST-MODIFIED:20260106T141515Z
UID:10000872-1788602400-1788620400@zks.stronazen.pl
SUMMARY:Zawody Powszechne ZKS
DESCRIPTION:Cykliczne zawody powszechne na ZKS Warszawa. \nKonkurencje rozgrywane: \n\nPsp30\,\nPsp10\,\nPcz10\,\nKbz10Open\,\nPMcz10\,\nPMcz10 Open\,\nPmczhist10\,\nPcz10 Open\,\nKcz5z8\,\nKhist5z8\,\nPhist10z15\,\nKdw10\,\nKdw10p\,\nKsn10\,\nSdyn10\,\nPst15\,\nPsz10\,\nPcp10/Kcp10 (CPLM 2026 – Czarnoprochowa Liga Mazowiecka w sezonie 2026)\n\nSprzedaż metryczek odbywa się poprzez PortalZKS i w dniu zawodów do godziny 14:00. \nUWAGA: ZKS Warszawa zastrzega możliwość zmiany terminów zawodów i zakresu\nkonkurencji.
URL:https://zks.stronazen.pl/kalendarz/zawody-powszechne-zks-2/2026-09-05/
LOCATION:ZKS Warszawa\, Marymoncka 42\, Warszawa\, Poland
END:VEVENT
BEGIN:VEVENT
DTSTART;TZID=Europe/Warsaw:20260907T090000
DTEND;TZID=Europe/Warsaw:20260907T180000
DTSTAMP:20260422T174847
CREATED:20260106T151522Z
LAST-MODIFIED:20260106T151522Z
UID:10000912-1788771600-1788804000@zks.stronazen.pl
SUMMARY:Pistolet IPSC
DESCRIPTION:Zawody Powszechne Dynamiczne w konkurencji Pistolet IPSC na ZKS Warszawa. \nIPSC (International Practical Shooting Confederation) – pistolet – konkurencja strzelectwa dynamicznego\, w której zawodnik używa pistoletu do jak najszybszego rażenia celów na różnych dystansach. \nZakup metryczek wyłącznie poprzez PortalZKS.
URL:https://zks.stronazen.pl/kalendarz/pistolet-ipsc/2026-09-07/
LOCATION:ZKS Warszawa\, Marymoncka 42\, Warszawa\, Poland
END:VEVENT
BEGIN:VEVENT
DTSTART;TZID=Europe/Warsaw:20260912T100000
DTEND;TZID=Europe/Warsaw:20260912T180000
DTSTAMP:20260422T174847
CREATED:20260106T143717Z
LAST-MODIFIED:20260106T143717Z
UID:10000890-1789207200-1789236000@zks.stronazen.pl
SUMMARY:Zawody pneumatyczne
DESCRIPTION:Zawody pneumatyczne na ZKS Warszawa. \nRozgrywane konkurencje: \n\nPpn40\,\nKpn40.\n\nW zawodach pneumatycznych konkurencje Ppn40/Kpn40 jako zawody OPEN rozgrywane są do godz. 18:00.\nSprzedaż metryczek odbywa się poprzez PortalZKS i w dniu zawodów do godziny 17:00.
URL:https://zks.stronazen.pl/kalendarz/zawody-pneumatyczne/2026-09-12/
LOCATION:ZKS Warszawa\, Marymoncka 42\, Warszawa\, Poland
END:VEVENT
BEGIN:VEVENT
DTSTART;TZID=Europe/Warsaw:20260919T080000
DTEND;TZID=Europe/Warsaw:20260919T170000
DTSTAMP:20260422T174847
CREATED:20260106T152320Z
LAST-MODIFIED:20260421T091248Z
UID:10000987-1789804800-1789837200@zks.stronazen.pl
SUMMARY:Puchar Prezesa
DESCRIPTION:Zawody o Puchar Prezesa ZKS Warszawa. \nRozgrywane konkurencje to: \n\nPsp30 cz. sz.\nPcz20\,\nPsp20\,\nKdw40L\,\nPdw40\n\nSprzedaż metryczek odbywa się poprzez PortalZKS i w dniu zawodów do godziny 13:00. \nKonkurencje Pdw40 i Kdw40L zaczynają się od godz. 9:00\, a pozostałe konkurencje standardowo od godz. 10:00. \nLink do Regulaminu zawodów Pucharu Prezesa ZKS Warszawa w roku 2026.
URL:https://zks.stronazen.pl/kalendarz/puchar-prezesa-i/2026-09-19/
LOCATION:ZKS Warszawa\, Marymoncka 42\, Warszawa\, Poland
CATEGORIES:Puchar Prezesa
ATTACH;FMTTYPE=image/jpeg:https://zks.stronazen.pl/wp-content/uploads/2026/01/2026_PP_wydarzenia_wyr.jpg
END:VEVENT
BEGIN:VEVENT
DTSTART;TZID=Europe/Warsaw:20260926T090000
DTEND;TZID=Europe/Warsaw:20260926T180000
DTSTAMP:20260422T174847
CREATED:20260106T145236Z
LAST-MODIFIED:20260106T145236Z
UID:10000898-1790413200-1790445600@zks.stronazen.pl
SUMMARY:Zawody Powszechne Dynamiczne - strzelba i karabin
DESCRIPTION:Zawody Powszechne Dynamiczne na ZKS Warszawa.\nRozgrywane konkurencje to: \n\nStrzelba IPSC\,\nKdyn20.\n\nZakup metryczek wyłącznie poprzez PortalZKS.
URL:https://zks.stronazen.pl/kalendarz/zawody-powszechne-dynamiczne-strzelba-i-karabin/2026-09-26/
LOCATION:ZKS Warszawa\, Marymoncka 42\, Warszawa\, Poland
END:VEVENT
BEGIN:VEVENT
DTSTART;TZID=Europe/Warsaw:20261003T100000
DTEND;TZID=Europe/Warsaw:20261003T150000
DTSTAMP:20260422T174847
CREATED:20260106T140658Z
LAST-MODIFIED:20260106T141515Z
UID:10000873-1791021600-1791039600@zks.stronazen.pl
SUMMARY:Zawody Powszechne ZKS
DESCRIPTION:Cykliczne zawody powszechne na ZKS Warszawa. \nKonkurencje rozgrywane: \n\nPsp30\,\nPsp10\,\nPcz10\,\nKbz10Open\,\nPMcz10\,\nPMcz10 Open\,\nPmczhist10\,\nPcz10 Open\,\nKcz5z8\,\nKhist5z8\,\nPhist10z15\,\nKdw10\,\nKdw10p\,\nKsn10\,\nSdyn10\,\nPst15\,\nPsz10\,\nPcp10/Kcp10 (CPLM 2026 – Czarnoprochowa Liga Mazowiecka w sezonie 2026)\n\nSprzedaż metryczek odbywa się poprzez PortalZKS i w dniu zawodów do godziny 14:00. \nUWAGA: ZKS Warszawa zastrzega możliwość zmiany terminów zawodów i zakresu\nkonkurencji.
URL:https://zks.stronazen.pl/kalendarz/zawody-powszechne-zks-2/2026-10-03/
LOCATION:ZKS Warszawa\, Marymoncka 42\, Warszawa\, Poland
END:VEVENT
END:VCALENDAR